BEGIN:VCALENDAR
VERSION:2.0
PRODID:-//Belenistas de La Laguna - ECPv6.15.17.1//NONSGML v1.0//EN
CALSCALE:GREGORIAN
METHOD:PUBLISH
X-ORIGINAL-URL:https://belenistaslalaguna.com
X-WR-CALDESC:Eventos para Belenistas de La Laguna
REFRESH-INTERVAL;VALUE=DURATION:PT1H
X-Robots-Tag:noindex
X-PUBLISHED-TTL:PT1H
BEGIN:VTIMEZONE
TZID:UTC
BEGIN:STANDARD
TZOFFSETFROM:+0000
TZOFFSETTO:+0000
TZNAME:UTC
DTSTART:20220101T000000
END:STANDARD
END:VTIMEZONE
BEGIN:VEVENT
DTSTART;TZID=UTC:20231004T200000
DTEND;TZID=UTC:20231004T203000
DTSTAMP:20260424T092236
CREATED:20230620T183135Z
LAST-MODIFIED:20230919T121148Z
UID:864-1696449600-1696451400@belenistaslalaguna.com
SUMMARY:Eucaristía en la Festividad de San Francisco de Asís
DESCRIPTION:Eucaristía por la Festividad de San Francisco de Asís\, Patrón de los Belenista y especialmente según contemplan nuestros estatutos\, Patrón de esta Asociación. \nEsta tendrá lugar en el Real Santuario del Santísimo Cristo de La Laguna\, a las 20:00 horas.
URL:https://belenistaslalaguna.com/agenda/festividad-de-san-francisco-de-asis/
LOCATION:Real Santuario del Santísimo Cristo de La Laguna\, Plaza del Cristo\, La Laguna\, Santa Cruz de Tenerife\, 38201\, España
END:VEVENT
BEGIN:VEVENT
DTSTART;TZID=UTC:20231006T200000
DTEND;TZID=UTC:20231006T203000
DTSTAMP:20260424T092236
CREATED:20231002T190027Z
LAST-MODIFIED:20231002T190028Z
UID:1285-1696622400-1696624200@belenistaslalaguna.com
SUMMARY:Inauguración de la exposición "Belén. Huella de San Francisco de Asís en la Navidad."
DESCRIPTION:Inauguración de la exposición «Belén. Huella de San Francisco de Asís en la Navidad».Organizada dentro del VIII Centenario de la primera representación del Belén por el Seráfico Padre en la ciudad de Greccio (1223-2023). \n\n\n\nEsta tendrá lugar en el Museo de Arte Sacro Santa Clara de Asís en San Cristóbal de La Laguna\, a las 20:00 horas.
URL:https://belenistaslalaguna.com/agenda/inauguracion-de-la-exposicion-belen-huella-de-san-francisco-de-asis-en-la-navidad/
LOCATION:Museo de Santa Clara Arte Sacro\, C. Viana\, 38\, La Laguna\, Santa Cruz de Tenerife\, 38201\, España
END:VEVENT
BEGIN:VEVENT
DTSTART;TZID=UTC:20231018T000000
DTEND;TZID=UTC:20231108T233000
DTSTAMP:20260424T092236
CREATED:20231004T171713Z
LAST-MODIFIED:20231004T171715Z
UID:1311-1697587200-1699486200@belenistaslalaguna.com
SUMMARY:Inscripciones ruta y concurso de Belenes 2023
DESCRIPTION:Plazo para la inscripción en la ruta y concurso de Belenes 2023. \n\n\n\nPincha aquí para más información
URL:https://belenistaslalaguna.com/agenda/inscripciones-ruta-y-concurso-de-belenes-2023/
END:VEVENT
END:VCALENDAR